BEGIN:VCALENDAR
VERSION:2.0
PRODID:-//PHS - ECPv6.15.20//NONSGML v1.0//EN
CALSCALE:GREGORIAN
METHOD:PUBLISH
X-ORIGINAL-URL:https://paul-hindemith-schule.de
X-WR-CALDESC:Veranstaltungen für PHS
REFRESH-INTERVAL;VALUE=DURATION:PT1H
X-Robots-Tag:noindex
X-PUBLISHED-TTL:PT1H
BEGIN:VTIMEZONE
TZID:UTC
BEGIN:STANDARD
TZOFFSETFROM:+0000
TZOFFSETTO:+0000
TZNAME:UTC
DTSTART:20240101T000000
END:STANDARD
END:VTIMEZONE
BEGIN:VEVENT
DTSTART;TZID=UTC:20251103T133000
DTEND;TZID=UTC:20251103T153000
DTSTAMP:20260421T161239
CREATED:20251024T120413Z
LAST-MODIFIED:20251024T120413Z
UID:4016-1762176600-1762183800@paul-hindemith-schule.de
SUMMARY:Heute keine AGs für die Jahrgänge 5 und 6
DESCRIPTION:
URL:https://paul-hindemith-schule.de/event/heute-keine-ags-fuer-die-jahrgaenge-5-und-6/
END:VEVENT
BEGIN:VEVENT
DTSTART;TZID=UTC:20251103T133000
DTEND;TZID=UTC:20251103T163000
DTSTAMP:20260421T161239
CREATED:20251024T120304Z
LAST-MODIFIED:20251024T120304Z
UID:4014-1762176600-1762187400@paul-hindemith-schule.de
SUMMARY:2. Gesamtkonferenz
DESCRIPTION:
URL:https://paul-hindemith-schule.de/event/2-gesamtkonferenz/
END:VEVENT
END:VCALENDAR