BEGIN:VCALENDAR
VERSION:2.0
PRODID:-//PHS - ECPv6.15.20//NONSGML v1.0//EN
CALSCALE:GREGORIAN
METHOD:PUBLISH
X-ORIGINAL-URL:https://paul-hindemith-schule.de
X-WR-CALDESC:Veranstaltungen für PHS
REFRESH-INTERVAL;VALUE=DURATION:PT1H
X-Robots-Tag:noindex
X-PUBLISHED-TTL:PT1H
BEGIN:VTIMEZONE
TZID:UTC
BEGIN:STANDARD
TZOFFSETFROM:+0000
TZOFFSETTO:+0000
TZNAME:UTC
DTSTART:20240101T000000
END:STANDARD
END:VTIMEZONE
BEGIN:VEVENT
DTSTART;VALUE=DATE:20250707
DTEND;VALUE=DATE:20250816
DTSTAMP:20260421T120556
CREATED:20250604T170004Z
LAST-MODIFIED:20250604T170004Z
UID:3621-1751846400-1755302399@paul-hindemith-schule.de
SUMMARY:Schöne Sommerferien
DESCRIPTION:Der gesamten Schulgemeinde wünschen wir eine schöne Sommerferienzeit.
URL:https://paul-hindemith-schule.de/event/schoene-sommerferien/
END:VEVENT
BEGIN:VEVENT
DTSTART;TZID=UTC:20250818T080000
DTEND;TZID=UTC:20250818T123000
DTSTAMP:20260421T120556
CREATED:20250630T113343Z
LAST-MODIFIED:20250630T113952Z
UID:3704-1755504000-1755520200@paul-hindemith-schule.de
SUMMARY:Erster Schultag für Jahrgänge 6 bis 10
DESCRIPTION:Montag\, 18.08. und Dienstag\, 19.08.2025\, von 8:00 Uhr bis 12:30 Uhr Klassenleitungsunterricht. \nNoch keine AGs und noch kein Nachmittagsunterricht. \nAb Mittwoch\, 20.08.25\, Unterricht nach Stundenplan
URL:https://paul-hindemith-schule.de/event/uhr-erster-schultag-fuer-jahrgaenge-6-bis-10/
END:VEVENT
BEGIN:VEVENT
DTSTART;TZID=UTC:20250819T093000
DTEND;TZID=UTC:20250819T120000
DTSTAMP:20260421T120556
CREATED:20250630T113540Z
LAST-MODIFIED:20250630T114217Z
UID:3708-1755595800-1755604800@paul-hindemith-schule.de
SUMMARY:Herzlich Willkommen! Aufnahmefeier 5. Klassen
DESCRIPTION:Liebe Eltern\, wir laden Sie\, nach der Aufnahmefeier Ihres Kindes\, herzlich in unser Elterncafé ein. Erkundigen Sie sich über die Schule und knüpfen Sie erste Kontakte.
URL:https://paul-hindemith-schule.de/event/herzlich-willkommen-aufnahmefeier-5-klassen/
END:VEVENT
END:VCALENDAR